BEGIN:VCALENDAR
VERSION:2.0
PRODID:-//J&amp;M Stables - ECPv6.15.20//NONSGML v1.0//EN
CALSCALE:GREGORIAN
METHOD:PUBLISH
X-WR-CALNAME:J&amp;M Stables
X-ORIGINAL-URL:https://jmstablesma.com
X-WR-CALDESC:Events for J&amp;M Stables
REFRESH-INTERVAL;VALUE=DURATION:PT1H
X-Robots-Tag:noindex
X-PUBLISHED-TTL:PT1H
BEGIN:VTIMEZONE
TZID:UTC
BEGIN:STANDARD
TZOFFSETFROM:+0000
TZOFFSETTO:+0000
TZNAME:UTC
DTSTART:20230101T000000
END:STANDARD
END:VTIMEZONE
BEGIN:VEVENT
DTSTART;TZID=UTC:20240806T183000
DTEND;TZID=UTC:20240806T203000
DTSTAMP:20260423T202538
CREATED:20240729T214110Z
LAST-MODIFIED:20240729T214110Z
UID:505-1722969000-1722976200@jmstablesma.com
SUMMARY:Live Tack\, Horse Supply\, And Home Decor OnlineSale
DESCRIPTION:Join Us Live on Facebook! \n\nSaddles\nBridles\nTack\nSupplies\nHome Decor\nand more…
URL:https://jmstablesma.com/event/live-tack-horse-supply-and-home-decor-onlinesale/
CATEGORIES:Facebook Live
ORGANIZER;CN="J&M Stables":MAILTO:jmevents@jmstablesma.com
END:VEVENT
END:VCALENDAR