BEGIN:VCALENDAR
VERSION:2.0
PRODID:-//J&amp;M Stables - ECPv6.15.20//NONSGML v1.0//EN
CALSCALE:GREGORIAN
METHOD:PUBLISH
X-WR-CALNAME:J&amp;M Stables
X-ORIGINAL-URL:https://jmstablesma.com
X-WR-CALDESC:Events for J&amp;M Stables
REFRESH-INTERVAL;VALUE=DURATION:PT1H
X-Robots-Tag:noindex
X-PUBLISHED-TTL:PT1H
BEGIN:VTIMEZONE
TZID:UTC
BEGIN:STANDARD
TZOFFSETFROM:+0000
TZOFFSETTO:+0000
TZNAME:UTC
DTSTART:20230101T000000
END:STANDARD
END:VTIMEZONE
BEGIN:VEVENT
DTSTART;TZID=UTC:20240831T190000
DTEND;TZID=UTC:20240831T220000
DTSTAMP:20260423T190127
CREATED:20240729T215017Z
LAST-MODIFIED:20240729T215017Z
UID:507-1725130800-1725141600@jmstablesma.com
SUMMARY:J&M Hosting Movie Night for Happily Evans After Rescue
DESCRIPTION:Come Join the Fun at J&M Stables as we host and sponsor Movie Night for Happily Evans After Rescue \nMovie: 1997 Flash\nAbout:\nFlash (1997) is a heartwarming Disney film that tells the story of a young boy’s extraordinary bond with a spirited and intelligent horse named Flash. Set against the backdrop of a picturesque small town\, the film explores themes of friendship\, perseverance\, and the transformative power of love. \nThe movie follows the journey of the young protagonist\, who discovers Flash\, a wild yet gentle horse with a remarkable ability to connect with those around him. As the boy and Flash form an unbreakable bond\, they face various challenges together\, including overcoming the skepticism of the townsfolk and the struggles of a looming competition that could change their lives forever. \nFilled with charming performances\, breathtaking cinematography\, and a touching score\, Flash captures the magic of the human-animal connection and the ways in which trust and dedication can lead to personal growth and success. The film is a testament to the enduring spirit of both animals and people\, celebrating the incredible achievements that can come from the simplest acts of love and kindness. \nOther Details: Popcorn and Refreshments will be for sale during the movie 🙂 Bring a chair\, blanket\, pillow\, and a friend to enjoy a movie! 🙂
URL:https://jmstablesma.com/event/jm-hosting-movie-night-for-happily-evans-after-rescue/
LOCATION:J&M Stables\, 598 Southwick Road\, Westfield\, MA\, 01085\, United States
CATEGORIES:Movie Night,Sponsored Events
ORGANIZER;CN="J&M Stables":MAILTO:jmevents@jmstablesma.com
END:VEVENT
END:VCALENDAR